BEGIN:VCALENDAR
PRODID:-//AT Content Types//AT Event//EN
VERSION:2.0
METHOD:PUBLISH
BEGIN:VEVENT
DTSTAMP:20260424T230501Z
CREATED:20160708T100105Z
UID:ATEvent-413ca6b294b04d8aa31542d1effcefdc
LAST-MODIFIED:20160708T100144Z
SUMMARY:CIGO: Nuovi criteri per l’approvazione delle domande
DTSTART:20160721T064500Z
DTEND:20160721T103000Z
DESCRIPTION:Incontro tecnico concernente la nuova disciplina della Cas
 sa Integrazione Guadagni Ordinaria
LOCATION:Brescia
CLASS:PUBLIC
END:VEVENT
END:VCALENDAR
