BEGIN:VCALENDAR
PRODID:-//AT Content Types//AT Event//EN
VERSION:2.0
METHOD:PUBLISH
BEGIN:VEVENT
DTSTAMP:20260421T111923Z
CREATED:20210915T130455Z
UID:ATEvent-7a76a9ee8a0c4190895f16dd4ea247f7
LAST-MODIFIED:20210915T130507Z
SUMMARY:Ciclo dogane e commercio internazionale: export control
DTSTART:20210916T070000Z
DTEND:20210916T110000Z
LOCATION:On line
CLASS:PUBLIC
END:VEVENT
END:VCALENDAR
