BEGIN:VCALENDAR
PRODID:-//AT Content Types//AT Event//EN
VERSION:2.0
METHOD:PUBLISH
BEGIN:VEVENT
DTSTAMP:20260425T113623Z
CREATED:20231219T092639Z
UID:ATEvent-eca607a822c64faaba5fe9c2b513f369
LAST-MODIFIED:20231219T092648Z
SUMMARY:Chiusura uffici per festività natalizie
DTSTART:20231219T093000Z
DTEND:20240107T225500Z
CLASS:PUBLIC
END:VEVENT
END:VCALENDAR
