BEGIN:VCALENDAR
PRODID:-//AT Content Types//AT Event//EN
VERSION:2.0
METHOD:PUBLISH
BEGIN:VEVENT
DTSTAMP:20260424T075120Z
CREATED:20181219T093116Z
UID:ATEvent-14508cb717a6442593296706e76d00f2
LAST-MODIFIED:20181219T095243Z
SUMMARY:Chiusura uffici per feste natalizie
DTSTART:20181224T080000Z
DTEND:20190104T173000Z
LOCATION:Milano
CLASS:PUBLIC
END:VEVENT
END:VCALENDAR
