BEGIN:VCALENDAR
PRODID:-//AT Content Types//AT Event//EN
VERSION:2.0
METHOD:PUBLISH
BEGIN:VEVENT
DTSTAMP:20260424T152928Z
CREATED:20260402T123225Z
UID:ATEvent-dc18e70c8f574289a6b92f3030ca3416
LAST-MODIFIED:20260402T123230Z
SUMMARY:Chiusura uffici - Pasqua
DTSTART:20260402T220000Z
DTEND:20260406T215500Z
CLASS:PUBLIC
END:VEVENT
END:VCALENDAR
