BEGIN:VCALENDAR
PRODID:-//AT Content Types//AT Event//EN
VERSION:2.0
METHOD:PUBLISH
BEGIN:VEVENT
DTSTAMP:20260424T041214Z
CREATED:20240731T142739Z
UID:ATEvent-c4bd050c16af45769b253f7277ce31b5
LAST-MODIFIED:20240731T153559Z
SUMMARY:Chiusura uffici - estate 2024
DTSTART:20240804T220000Z
DTEND:20240823T215500Z
CLASS:PUBLIC
END:VEVENT
END:VCALENDAR
