BEGIN:VCALENDAR
PRODID:-//AT Content Types//AT Event//EN
VERSION:2.0
METHOD:PUBLISH
BEGIN:VEVENT
DTSTAMP:20260421T212949Z
CREATED:20211220T005742Z
UID:ATEvent-10857d5800af41a4b913ee629611b84a
LAST-MODIFIED:20211220T005753Z
SUMMARY:Chiusura uffici
DTSTART:20211224T080000Z
DTEND:20220107T170000Z
CLASS:PUBLIC
END:VEVENT
END:VCALENDAR
