BEGIN:VCALENDAR
PRODID:-//AT Content Types//AT Event//EN
VERSION:1.0
BEGIN:VEVENT
DTSTART:20210809T060000Z
DTEND:20210820T160000Z
DCREATED:20210728T145749Z
UID:ATEvent-3e7f40ccfd5a40c9bca2ea20e2053d52
SEQUENCE:0
LAST-MODIFIED:20210728T145754Z
SUMMARY:Chiusura uffici
PRIORITY:3
TRANSP:0
END:VEVENT
END:VCALENDAR
