BEGIN:VCALENDAR
PRODID:-//AT Content Types//AT Event//EN
VERSION:2.0
METHOD:PUBLISH
BEGIN:VEVENT
DTSTAMP:20260424T040918Z
CREATED:20201221T103947Z
UID:ATEvent-396bf870704045ea8678db920aa013dc
LAST-MODIFIED:20201221T105724Z
SUMMARY:CHIUSURA UFFICI
DTSTART:20201224T070000Z
DTEND:20210106T173000Z
CLASS:PUBLIC
END:VEVENT
END:VCALENDAR
