BEGIN:VCALENDAR
PRODID:-//AT Content Types//AT Event//EN
VERSION:1.0
BEGIN:VEVENT
DTSTART:20160713T070000Z
DTEND:20160713T110000Z
DCREATED:20160711T130236Z
UID:ATEvent-5fb22a349d324bad8d8133e01f0ee699
SEQUENCE:0
LAST-MODIFIED:20160711T130245Z
SUMMARY:China Watcher Sixth Maria Weber Annual Conference
LOCATION:Milano
PRIORITY:3
TRANSP:0
END:VEVENT
END:VCALENDAR
