BEGIN:VCALENDAR
PRODID:-//AT Content Types//AT Event//EN
VERSION:2.0
METHOD:PUBLISH
BEGIN:VEVENT
DTSTAMP:20260426T015043Z
CREATED:20240415T134925Z
UID:ATEvent-221ada818ff44419a6d50068f1e759fd
LAST-MODIFIED:20240415T134941Z
SUMMARY:Che difficoltà questa sostenibilità!
DTSTART:20240508T150000Z
DTEND:20240508T170000Z
DESCRIPTION:Evento promosso da Assolombarda Piccola Industria.
LOCATION:Milano
CLASS:PUBLIC
END:VEVENT
END:VCALENDAR
