BEGIN:VCALENDAR
PRODID:-//AT Content Types//AT Event//EN
VERSION:1.0
BEGIN:VEVENT
DTSTART:20220718T173000Z
DTEND:20220718T203000Z
DCREATED:20220718T143738Z
UID:ATEvent-2aefac3b2aa64e76b2ff01e85301c7b7
SEQUENCE:0
LAST-MODIFIED:20220718T144810Z
SUMMARY:Cena estiva Giovani Imprenditori
LOCATION:Milano
PRIORITY:3
TRANSP:0
END:VEVENT
END:VCALENDAR
