BEGIN:VCALENDAR
PRODID:-//AT Content Types//AT Event//EN
VERSION:2.0
METHOD:PUBLISH
BEGIN:VEVENT
DTSTAMP:20260422T173553Z
CREATED:20190923T111136Z
UID:ATEvent-28c553fce7fe40f094c144845a9c1980
LAST-MODIFIED:20190923T111142Z
SUMMARY:CCNL Dirigenti di aziende produttrici di beni e servizi
DTSTART:20191004T073000Z
DTEND:20191004T110000Z
LOCATION:Milano
CLASS:PUBLIC
END:VEVENT
END:VCALENDAR
