BEGIN:VCALENDAR
PRODID:-//AT Content Types//AT Event//EN
VERSION:2.0
METHOD:PUBLISH
BEGIN:VEVENT
DTSTAMP:20260424T105730Z
CREATED:20230613T100726Z
UID:ATEvent-96a9fa6d85ff487299ef277957ac7263
LAST-MODIFIED:20230619T134757Z
SUMMARY:CBS Innovation Convention - L'additive manufacturing per la fabbrica del futuro
DTSTART:20230628T080000Z
DTEND:20230628T110000Z
DESCRIPTION:I giorni 28 e 29 giugno l'area innovazione di Confindustri
 a Brescia organizza una due giorni dedicata all'innovazione presso "Fa
 bbrica del Futuro". Il primo dei quattro eventi previsti si propone di
  esplorare la manifattura additiva\, affrontando i progressi tecnologi
 ci a questa legati e lo stato d'integrazione in contesti industriali.
LOCATION:Brescia
CLASS:PUBLIC
END:VEVENT
END:VCALENDAR
