BEGIN:VCALENDAR
PRODID:-//AT Content Types//AT Event//EN
VERSION:1.0
BEGIN:VEVENT
DTSTART:20160720T080000Z
DTEND:20160721T110000Z
DCREATED:20160719T131339Z
UID:ATEvent-dd35622ac7614cb1ae2d1c795a0daf54
SEQUENCE:0
LAST-MODIFIED:20160719T131448Z
SUMMARY:Cassa Integrazione Guadagni Ordinaria: le novità principali dopo il Jobs Act
LOCATION:Lecco/Sondrio
PRIORITY:3
TRANSP:0
END:VEVENT
END:VCALENDAR
