BEGIN:VCALENDAR
PRODID:-//AT Content Types//AT Event//EN
VERSION:1.0
BEGIN:VEVENT
DTSTART:20221011T083000Z
DTEND:20221011T103000Z
DCREATED:20221007T091206Z
UID:ATEvent-4a08837070424a38b4565aff7807f8c4
SEQUENCE:0
LAST-MODIFIED:20221007T102525Z
SUMMARY:Caro energia: le garanzie di MCC e SACE per operazioni finanziarie di liquidità e investimenti
LOCATION:Online
PRIORITY:3
TRANSP:0
END:VEVENT
END:VCALENDAR
