BEGIN:VCALENDAR
PRODID:-//AT Content Types//AT Event//EN
VERSION:2.0
METHOD:PUBLISH
BEGIN:VEVENT
DTSTAMP:20260424T065811Z
CREATED:20220620T150617Z
UID:ATEvent-21773c14ebfe4a0eb29b5bd68aec69af
LAST-MODIFIED:20220620T152107Z
SUMMARY:C2Future Final Conference
DTSTART:20220629T073000Z
DTEND:20220629T160000Z
LOCATION:Milano e On line
CLASS:PUBLIC
END:VEVENT
END:VCALENDAR
