BEGIN:VCALENDAR
PRODID:-//AT Content Types//AT Event//EN
VERSION:1.0
BEGIN:VEVENT
DTSTART:20260127T160000Z
DTEND:20260127T180000Z
DCREATED:20260120T160219Z
UID:ATEvent-063257e9530b4bf98176f215e4ac0c5a
SEQUENCE:0
LAST-MODIFIED:20260120T164213Z
SUMMARY:Business workshop: compagnie aeree e tour operator incontrano il trade
LOCATION:Ponte San Pietro
PRIORITY:3
TRANSP:0
END:VEVENT
END:VCALENDAR
