BEGIN:VCALENDAR
PRODID:-//AT Content Types//AT Event//EN
VERSION:1.0
BEGIN:VEVENT
DTSTART:20151019T140000Z
DTEND:20151019T170000Z
DCREATED:20151008T154936Z
UID:ATEvent-01e98317e3d84dad9270e6e84cd8223e
SEQUENCE:0
LAST-MODIFIED:20151008T155057Z
SUMMARY:Business Plan e pianificazione finanziaria. Secondo incontro “Credito\, Finanza\, Confidi: focus per l'imprenditore”
LOCATION:Bergamo
PRIORITY:3
TRANSP:0
END:VEVENT
END:VCALENDAR
