BEGIN:VCALENDAR
PRODID:-//AT Content Types//AT Event//EN
VERSION:1.0
BEGIN:VEVENT
DTSTART:20211217T070000Z
DTEND:20211217T080000Z
DCREATED:20211214T235046Z
UID:ATEvent-91ac4c6e15b94a4e8d0f8c386f1ed202
SEQUENCE:0
LAST-MODIFIED:20211214T235252Z
SUMMARY:Business Breakfast “Il rischio dell’inflazione. Certo o incerto”
LOCATION:Monza e On line
PRIORITY:3
TRANSP:0
END:VEVENT
END:VCALENDAR
