BEGIN:VCALENDAR
PRODID:-//AT Content Types//AT Event//EN
VERSION:2.0
METHOD:PUBLISH
BEGIN:VEVENT
DTSTAMP:20260425T152423Z
CREATED:20160627T153427Z
UID:ATEvent-f4bb158153174858bddff3455070a4d1
LAST-MODIFIED:20160627T153434Z
SUMMARY:Brexit: situazione attuale e sviluppi futuri
DTSTART:20160629T120000Z
DTEND:20160629T153000Z
LOCATION:Milano
CLASS:PUBLIC
END:VEVENT
END:VCALENDAR
