BEGIN:VCALENDAR
PRODID:-//AT Content Types//AT Event//EN
VERSION:1.0
BEGIN:VEVENT
DTSTART:20190417T070000Z
DTEND:20190417T110000Z
DCREATED:20190410T211614Z
UID:ATEvent-2b11975e2a924e1e96ca589f72931471
SEQUENCE:0
LAST-MODIFIED:20190410T211620Z
SUMMARY:BREXIT: implicazioni doganali e fiscali
LOCATION:Legnano (MI)
PRIORITY:3
TRANSP:0
END:VEVENT
END:VCALENDAR
