BEGIN:VCALENDAR
PRODID:-//AT Content Types//AT Event//EN
VERSION:2.0
METHOD:PUBLISH
BEGIN:VEVENT
DTSTAMP:20260424T042457Z
CREATED:20240109T095205Z
UID:ATEvent-b4621f95829f4d3aace033da961c308e
LAST-MODIFIED:20240118T134915Z
SUMMARY:Brevetti\, marchi e disegni: opportunità di finanziamento per PMI lombarde
DTSTART:20240123T153000Z
DTEND:20240123T170000Z
LOCATION:Online
CLASS:PUBLIC
END:VEVENT
END:VCALENDAR
