BEGIN:VCALENDAR
PRODID:-//AT Content Types//AT Event//EN
VERSION:2.0
METHOD:PUBLISH
BEGIN:VEVENT
DTSTAMP:20260421T162034Z
CREATED:20231004T074625Z
UID:ATEvent-1510b153c57e4f719289bd42180c8bb9
LAST-MODIFIED:20231013T105516Z
SUMMARY:Coscienza\, libero arbitrio ed intelligenza artificiale: dialogo con Federico Faggin
DTSTART:20231019T170000Z
DTEND:20231019T190000Z
LOCATION:Bergamo
CLASS:PUBLIC
END:VEVENT
END:VCALENDAR
