BEGIN:VCALENDAR
PRODID:-//AT Content Types//AT Event//EN
VERSION:2.0
METHOD:PUBLISH
BEGIN:VEVENT
DTSTAMP:20260424T081715Z
CREATED:20230928T100441Z
UID:ATEvent-3510737296254650ac384f5539e17252
LAST-MODIFIED:20230929T143839Z
SUMMARY:Prospect Africa: scenari futuri e opportunità per le imprese
DTSTART:20231004T134500Z
DTEND:20231004T150000Z
LOCATION:Bergamo
CLASS:PUBLIC
END:VEVENT
END:VCALENDAR
