BEGIN:VCALENDAR
PRODID:-//AT Content Types//AT Event//EN
VERSION:1.0
BEGIN:VEVENT
DTSTART:20231120T140000Z
DTEND:20231120T153000Z
DCREATED:20231025T153212Z
UID:ATEvent-8cb0304676914e63b5de1ab881801cca
SEQUENCE:0
LAST-MODIFIED:20231026T155528Z
SUMMARY:Mediazione e arbitrato WIPO per PMI e microimprese
LOCATION:Online
PRIORITY:3
TRANSP:0
END:VEVENT
END:VCALENDAR
