BEGIN:VCALENDAR
PRODID:-//AT Content Types//AT Event//EN
VERSION:1.0
BEGIN:VEVENT
DTSTART:20231020T070000Z
DTEND:20231020T143000Z
DCREATED:20231018T144144Z
UID:ATEvent-72a984e55c3745768a9e2e12ea60cdc8
SEQUENCE:0
LAST-MODIFIED:20231018T144520Z
SUMMARY:ITWIIN Award 2023
DESCRIPTION:Sinergia tra ricerca\, industria e società: le donne prom
 otrici d'innovazione
LOCATION:Monza
PRIORITY:3
TRANSP:0
END:VEVENT
END:VCALENDAR
