BEGIN:VCALENDAR
PRODID:-//AT Content Types//AT Event//EN
VERSION:2.0
METHOD:PUBLISH
BEGIN:VEVENT
DTSTAMP:20260424T105311Z
CREATED:20230929T082341Z
UID:ATEvent-65367e7cad1c4fb0853b54e044f71d72
LAST-MODIFIED:20230929T143706Z
SUMMARY:Intelligenza artificiale e PMI: esperienze da un futuro presente
DTSTART:20231003T140000Z
DTEND:20231003T163000Z
DESCRIPTION:ll roadshow nazionale organizzato da Piccola Industria di 
 Confindustria e Anitec-Assinform\, con la Piccola Industria di Bergamo
 \, Brescia e Mantova e in collaborazione con la rete dei Digital Innov
 ation Hub.
LOCATION:Brescia
CLASS:PUBLIC
END:VEVENT
END:VCALENDAR
