BEGIN:VCALENDAR
PRODID:-//AT Content Types//AT Event//EN
VERSION:1.0
BEGIN:VEVENT
DTSTART:20231019T140000Z
DTEND:20231019T160000Z
DCREATED:20231009T130125Z
UID:ATEvent-de984d702eef48c38d72693b9fc1805b
SEQUENCE:0
LAST-MODIFIED:20231013T110558Z
SUMMARY:Innovazione struttura per un futuro sostenibile ed antifragile
LOCATION:Bergamo
PRIORITY:3
TRANSP:0
END:VEVENT
END:VCALENDAR
