BEGIN:VCALENDAR
PRODID:-//AT Content Types//AT Event//EN
VERSION:2.0
METHOD:PUBLISH
BEGIN:VEVENT
DTSTAMP:20260421T121749Z
CREATED:20231009T132356Z
UID:ATEvent-c7a58f84463b4c8994cc385102cc3cec
LAST-MODIFIED:20231013T102444Z
SUMMARY:I nuovi finanziamenti agevolati di SIMEST  e le garanzie finanziarie e assicurative di SACE
DTSTART:20231019T080000Z
DTEND:20231019T100000Z
LOCATION:Online
CLASS:PUBLIC
END:VEVENT
END:VCALENDAR
