BEGIN:VCALENDAR
PRODID:-//AT Content Types//AT Event//EN
VERSION:2.0
METHOD:PUBLISH
BEGIN:VEVENT
DTSTAMP:20260421T174253Z
CREATED:20231003T122526Z
UID:ATEvent-cfd1e6fbd7b442b2a6762afbab59ddb5
LAST-MODIFIED:20231018T162336Z
SUMMARY:Cybersecurity 2023 - Il nuovo paradigma: dall’Intelligenza Artificiale alla Direttiva Nis2
DTSTART:20231024T123000Z
DTEND:20231024T160000Z
DESCRIPTION:Torna l'appuntamento annuale dedicato al tema della cybers
 ecurity organizzato da Assolombarda in collaborazione con Il Sole 24 O
 re.
LOCATION:Milano e Online
CLASS:PUBLIC
END:VEVENT
END:VCALENDAR
