BEGIN:VCALENDAR
PRODID:-//AT Content Types//AT Event//EN
VERSION:2.0
METHOD:PUBLISH
BEGIN:VEVENT
DTSTAMP:20260421T162125Z
CREATED:20231018T130336Z
UID:ATEvent-946964674d464f61b9041e44bc0cf6e8
LAST-MODIFIED:20231018T160050Z
SUMMARY:Consulenza di INAIL Bergamo: lavoro all'estero\, rateazioni e canali di comunicazione
DTSTART:20231024T083000Z
DTEND:20231024T103000Z
LOCATION:Online
CLASS:PUBLIC
END:VEVENT
END:VCALENDAR
