BEGIN:VCALENDAR
PRODID:-//AT Content Types//AT Event//EN
VERSION:1.0
BEGIN:VEVENT
DTSTART:20231009T100000Z
DTEND:20231009T153000Z
DCREATED:20230927T091926Z
UID:ATEvent-62fb53eccc2745db9c727818405d02d3
SEQUENCE:0
LAST-MODIFIED:20230929T144200Z
SUMMARY:Città in scena: festival diffuso della rigenerazione urbana
DESCRIPTION:Bergamo e Brescia\, Capitale della Cultura 2023\, protagon
 iste della quarta tappa di Città in scena.
LOCATION:Brescia
PRIORITY:3
TRANSP:0
END:VEVENT
END:VCALENDAR
