BEGIN:VCALENDAR
PRODID:-//AT Content Types//AT Event//EN
VERSION:2.0
METHOD:PUBLISH
BEGIN:VEVENT
DTSTAMP:20260424T040805Z
CREATED:20181001T134458Z
UID:ATEvent-85a86b1ed3604bf39a513a941fc8386b
LAST-MODIFIED:20181212T175006Z
SUMMARY:BOOSTAlps - Workshop & Brokerage event
DTSTART:20181218T090000Z
DTEND:20181218T170000Z
LOCATION:Milano
CLASS:PUBLIC
END:VEVENT
END:VCALENDAR
