BEGIN:VCALENDAR
PRODID:-//AT Content Types//AT Event//EN
VERSION:2.0
METHOD:PUBLISH
BEGIN:VEVENT
DTSTAMP:20260421T082404Z
CREATED:20180227T163552Z
UID:ATEvent-461b8ec2435f42ce8ed1fae2d122e620
LAST-MODIFIED:20180227T163557Z
SUMMARY:Bioeconomy Dialogues
DTSTART:20180307T123000Z
DTEND:20180307T163000Z
LOCATION:Milano
CLASS:PUBLIC
END:VEVENT
END:VCALENDAR
