BEGIN:VCALENDAR
PRODID:-//AT Content Types//AT Event//EN
VERSION:1.0
BEGIN:VEVENT
DTSTART:20161129T133000Z
DTEND:20161129T163000Z
DCREATED:20161114T163852Z
UID:ATEvent-51355ea1106a44ba8b0d84a47a6532c2
SEQUENCE:0
LAST-MODIFIED:20161114T163920Z
SUMMARY:Big Data\, Internet of Things\, Apps
DESCRIPTION:Quali implicazioni per il mondo del farmaco e il settore s
 alute?
LOCATION:Milano
PRIORITY:3
TRANSP:0
END:VEVENT
END:VCALENDAR
