BEGIN:VCALENDAR
PRODID:-//AT Content Types//AT Event//EN
VERSION:1.0
BEGIN:VEVENT
DTSTART:20230524T130000Z
DTEND:20230524T150000Z
DCREATED:20230516T090119Z
UID:ATEvent-70bb4fcc65084bc68c4ed805647196b5
SEQUENCE:0
LAST-MODIFIED:20230521T231029Z
SUMMARY:Beni militari: le cautele necessarie e gli obblighi quando si lavora con imprese che operano in ambito militare o di polizia
DESCRIPTION:Il webinar ha l'obiettivo di illustrare gli adempimenti ob
 bligatori per le imprese che importano\, detengono\, producono o espor
 tano beni o tecnologie militari\, o beni e tecnologie di normale uso c
 ivile ma modificati espressamente per un uso in ambito militare o di p
 olizia.
LOCATION:On line
PRIORITY:3
TRANSP:0
END:VEVENT
END:VCALENDAR
