BEGIN:VCALENDAR
PRODID:-//AT Content Types//AT Event//EN
VERSION:2.0
METHOD:PUBLISH
BEGIN:VEVENT
DTSTAMP:20260421T105959Z
CREATED:20230531T141128Z
UID:ATEvent-8e57be421dc04d6385d69741eedc9b32
LAST-MODIFIED:20230619T130805Z
SUMMARY:Basket Bond Sistema Confindustria. Strumento di finanza alternativa per PMI e MidCap lombarde
DTSTART:20230615T123000Z
DTEND:20230615T143000Z
LOCATION:On line
CLASS:PUBLIC
END:VEVENT
END:VCALENDAR
