BEGIN:VCALENDAR
PRODID:-//AT Content Types//AT Event//EN
VERSION:2.0
METHOD:PUBLISH
BEGIN:VEVENT
DTSTAMP:20260421T214554Z
CREATED:20231020T143447Z
UID:ATEvent-a9a8a38d6dbe42dd8251a245c4e76b80
LAST-MODIFIED:20231020T144725Z
SUMMARY:Bando Ricerca&Innova
DTSTART:20231023T090000Z
DTEND:20231023T103000Z
DESCRIPTION:Webinar di presentazione
LOCATION:Online
CLASS:PUBLIC
END:VEVENT
END:VCALENDAR
