BEGIN:VCALENDAR
PRODID:-//AT Content Types//AT Event//EN
VERSION:2.0
METHOD:PUBLISH
BEGIN:VEVENT
DTSTAMP:20260421T152114Z
CREATED:20230711T101619Z
UID:ATEvent-c990c020c29d4c0dafb9b2065a8b01a4
LAST-MODIFIED:20230711T103645Z
SUMMARY:Bando MADE 2023
DTSTART:20230713T080000Z
DTEND:20230713T103000Z
DESCRIPTION:L'incontro presso il Competence Centre MADE avrà lo scopo
  di approfondire le opportunità di agevolazione a fondo perduto\, le 
 competenze e il network a supporto dei progetti di innovazione delle i
 mprese.
LOCATION:Milano
CLASS:PUBLIC
END:VEVENT
END:VCALENDAR
