BEGIN:VCALENDAR
PRODID:-//AT Content Types//AT Event//EN
VERSION:1.0
BEGIN:VEVENT
DTSTART:20160323T133000Z
DTEND:20160323T163000Z
DCREATED:20160307T152734Z
UID:ATEvent-dc381f0ac2e24952a809751ddcc5e09f
SEQUENCE:0
LAST-MODIFIED:20160307T152930Z
SUMMARY:Bando ISI INAIL 2015
DESCRIPTION:Indicazioni pratiche per la presentazione delle domande - 
 Presidio territoriale di Monza
LOCATION:Monza
PRIORITY:3
TRANSP:0
END:VEVENT
END:VCALENDAR
