BEGIN:VCALENDAR
PRODID:-//AT Content Types//AT Event//EN
VERSION:1.0
BEGIN:VEVENT
DTSTART:20160323T090000Z
DTEND:20160323T120000Z
DCREATED:20160310T170719Z
UID:ATEvent-40dd342d31894e69bd231cc51f3fdf94
SEQUENCE:0
LAST-MODIFIED:20160310T170811Z
SUMMARY:Bando INAIL\, contributi a fondo perduto\, agevolazioni fiscali e presentazione portale finanza agevolata
LOCATION:Bergamo
PRIORITY:3
TRANSP:0
END:VEVENT
END:VCALENDAR
