BEGIN:VCALENDAR
PRODID:-//AT Content Types//AT Event//EN
VERSION:2.0
METHOD:PUBLISH
BEGIN:VEVENT
DTSTAMP:20260419T151137Z
CREATED:20250114T110750Z
UID:ATEvent-ba389f0fe7324ec4840415ecb3405ddd
LAST-MODIFIED:20250114T190441Z
SUMMARY:BANCOPASS Evolution 2025: più semplice\, più veloce e più ESG
DTSTART:20250218T100000Z
DTEND:20250218T113000Z
DESCRIPTION:Vivi in anteprima i grandi cambiamenti del 2025 di Bancopa
 ss\, lo strumento gratuito di pianificazione più utilizzato in Italia
  da aziende e stakeholder
LOCATION:Milano
CLASS:PUBLIC
END:VEVENT
END:VCALENDAR
