BEGIN:VCALENDAR
PRODID:-//AT Content Types//AT Event//EN
VERSION:2.0
METHOD:PUBLISH
BEGIN:VEVENT
DTSTAMP:20260424T065201Z
CREATED:20230208T110044Z
UID:ATEvent-07638a3e6e774503964285cee204c498
LAST-MODIFIED:20230208T110046Z
SUMMARY:Bancopass - aggiornamenti e opportunità
DTSTART:20230221T080000Z
DTEND:20230221T100000Z
LOCATION:On line
CLASS:PUBLIC
END:VEVENT
END:VCALENDAR
