BEGIN:VCALENDAR
PRODID:-//AT Content Types//AT Event//EN
VERSION:2.0
METHOD:PUBLISH
BEGIN:VEVENT
DTSTAMP:20260424T115727Z
CREATED:20160714T091126Z
UID:ATEvent-63675d2faf8740cdafe9a116cd7b4c16
LAST-MODIFIED:20160714T091817Z
SUMMARY:B2B con aziende Russe
DTSTART:20160718T080000Z
DTEND:20160718T110000Z
DESCRIPTION:Automotive\, sistemi di cablaggio\, pressofusione di mater
 ie plastiche
LOCATION:Bergamo
CLASS:PUBLIC
END:VEVENT
END:VCALENDAR
