BEGIN:VCALENDAR
PRODID:-//AT Content Types//AT Event//EN
VERSION:2.0
METHOD:PUBLISH
BEGIN:VEVENT
DTSTAMP:20260424T025716Z
CREATED:20160307T151133Z
UID:ATEvent-a0aa87d29c97400db2d7781655aa8b53
LAST-MODIFIED:20160307T151258Z
SUMMARY:Azerbaijan: opportunità di investimento nel paese
DTSTART:20160322T150000Z
DTEND:20160322T170000Z
LOCATION:Milano
CLASS:PUBLIC
END:VEVENT
END:VCALENDAR
