BEGIN:VCALENDAR
PRODID:-//AT Content Types//AT Event//EN
VERSION:1.0
BEGIN:VEVENT
DTSTART:20241104T090000Z
DTEND:20241104T110000Z
DCREATED:20241008T092253Z
UID:ATEvent-fb57ef3650804dfb8688ccc9f8167904
SEQUENCE:0
LAST-MODIFIED:20241008T093507Z
SUMMARY:Autorizzazione integrata ambientale: dialogo sullo stato dei controlli
DESCRIPTION:Analisi delle le principali criticità emerse per garantir
 e un’efficace gestione ambientale all'interno delle aziende.
LOCATION:Milano
PRIORITY:3
TRANSP:0
END:VEVENT
END:VCALENDAR
