BEGIN:VCALENDAR
PRODID:-//AT Content Types//AT Event//EN
VERSION:2.0
METHOD:PUBLISH
BEGIN:VEVENT
DTSTAMP:20260424T064932Z
CREATED:20240212T144417Z
UID:ATEvent-f8eca8ca2d814836b627a063217977ca
LAST-MODIFIED:20240212T144454Z
SUMMARY:Assolombarda e la Filiera Automotive visitano Alstom Group
DTSTART:20240223T085000Z
DTEND:20240223T123000Z
DESCRIPTION:Riprendono le visite e le opportunità di networking organ
 izzate dalla Filiera Automotive.
LOCATION:Sesto San Giovanni
CLASS:PUBLIC
END:VEVENT
END:VCALENDAR
