BEGIN:VCALENDAR
PRODID:-//AT Content Types//AT Event//EN
VERSION:2.0
METHOD:PUBLISH
BEGIN:VEVENT
DTSTAMP:20260424T084157Z
CREATED:20230220T152610Z
UID:ATEvent-939b8454e08a4ab2b5ba1bba00fe6c13
LAST-MODIFIED:20230220T152625Z
SUMMARY:Assicurazione obbligatoria Inail: dalla gestione dell’infortunio alla notifica dei tassi
DTSTART:20230222T133000Z
DTEND:20230222T150000Z
LOCATION:On line
CLASS:PUBLIC
END:VEVENT
END:VCALENDAR
