BEGIN:VCALENDAR
PRODID:-//AT Content Types//AT Event//EN
VERSION:2.0
METHOD:PUBLISH
BEGIN:VEVENT
DTSTAMP:20260420T171816Z
CREATED:20170925T093500Z
UID:ATEvent-16f774dfa1394ef4bd8537838ddbcafc
LAST-MODIFIED:20170925T093550Z
SUMMARY:Assemblea Pubblica ANAV Lombardia - Liberalizzazioni immaginarie
DTSTART:20171004T130000Z
DTEND:20171004T160000Z
LOCATION:Milano
CLASS:PUBLIC
END:VEVENT
END:VCALENDAR
